BEGIN:VCALENDAR
VERSION:2.0
PRODID:-//eventon.com NONSGML v1.0//EN
CALSCALE:GREGORIAN
METHOD:PUBLISH
BEGIN:VEVENT
UID:69e5fef762e45
DTSTAMP:20260420T102455Z
DTSTART:20250731T154500Z
DTEND:20250731T170000Z
LOCATION:
SUMMARY:Open House & Happy Hour
DESCRIPTION:We’re opening our doors and shaking up drinks every Thursday 
 at Heritage Pointe! Join us for a weekly Open House & Happy Hour with our r
 esidents\,  their friends and family members\,  and our wonderful staff. En
 joy good company\,  light refreshments\,  and a relaxed atmosphere to end t
 he day on a[..]\nhttps://www.heritagepointe.org/blog/events/happy-hour/
URL:https://www.heritagepointe.org/blog/events/happy-hour/
END:VEVENT
END:VCALENDAR