BEGIN:VCALENDAR
VERSION:2.0
PRODID:-//eventon.com NONSGML v1.0//EN
CALSCALE:GREGORIAN
METHOD:PUBLISH
BEGIN:VEVENT
UID:69e9ebcbc3982
DTSTAMP:20260423T095211Z
DTSTART:20250628T100000Z
DTEND:20250628T130000Z
LOCATION:
SUMMARY:Sweet of You to Stop By!
DESCRIPTION:We’re opening our doors every Saturday from 10 am to 1 pm\, 
  and we’d love to welcome you in! ✨&nbsp;Enjoy mimosas\,  coffee\,  and
  fresh pastries🏡&nbsp;Tour the community and see what we’re all about
 &nbsp;Take home a sweet treat—homemade cookies\,  just for you!👋&nb
 sp;Open to all – bring a friend or come meet new[..]\nhttps://www.heritag
 epointe.org/blog/events/sweet-of-you-to-stop-by-june-28/
URL:https://www.heritagepointe.org/blog/events/sweet-of-you-to-stop-by-june-28/
END:VEVENT
END:VCALENDAR